BEGIN:VCALENDAR
VERSION:2.0
PRODID:-//SoundCellar - ECPv6.15.20//NONSGML v1.0//EN
CALSCALE:GREGORIAN
METHOD:PUBLISH
X-WR-CALNAME:SoundCellar
X-ORIGINAL-URL:https://soundcellar.org
X-WR-CALDESC:Events for SoundCellar
REFRESH-INTERVAL;VALUE=DURATION:PT1H
X-Robots-Tag:noindex
X-PUBLISHED-TTL:PT1H
BEGIN:VTIMEZONE
TZID:Europe/London
BEGIN:DAYLIGHT
TZOFFSETFROM:+0000
TZOFFSETTO:+0100
TZNAME:BST
DTSTART:20240331T010000
END:DAYLIGHT
BEGIN:STANDARD
TZOFFSETFROM:+0100
TZOFFSETTO:+0000
TZNAME:GMT
DTSTART:20241027T010000
END:STANDARD
BEGIN:DAYLIGHT
TZOFFSETFROM:+0000
TZOFFSETTO:+0100
TZNAME:BST
DTSTART:20250330T010000
END:DAYLIGHT
BEGIN:STANDARD
TZOFFSETFROM:+0100
TZOFFSETTO:+0000
TZNAME:GMT
DTSTART:20251026T010000
END:STANDARD
BEGIN:DAYLIGHT
TZOFFSETFROM:+0000
TZOFFSETTO:+0100
TZNAME:BST
DTSTART:20260329T010000
END:DAYLIGHT
BEGIN:STANDARD
TZOFFSETFROM:+0100
TZOFFSETTO:+0000
TZNAME:GMT
DTSTART:20261025T010000
END:STANDARD
END:VTIMEZONE
BEGIN:VEVENT
DTSTART;TZID=Europe/London:20250907T193000
DTEND;TZID=Europe/London:20250907T213000
DTSTAMP:20260424T170342
CREATED:20250611T210553Z
LAST-MODIFIED:20250718T063613Z
UID:4354-1757273400-1757280600@soundcellar.org
SUMMARY:SYNERGY SESSION - ELCHIN SHIRINOV / JEREMY STACEY
DESCRIPTION:We are delighted to open our autumn season with a specially curated SYNERGY SESSION\, featuring the amazing ELCHIN SHIRINOV on keyboards and local drum legend JEREMY STACEY. \n \nThis gig will take place at The Grasshopper\,\n139 – 141 Bournemouth Rd\, Poole BH14 9HT. \nPlease note: If parking in either of the car parks at The Grasshopper\, you must register your vehicle on one of the dedicated terminals at the bar or in the function room. \nTicket link below \nELCHIN SHIRINOV is a jazz pianist\, composer\, and arranger from Azerbaijan. From 2018 to 2022\, he was a member of bassist Avishai Cohen’s trio\, performing internationally at venues and festivals including Blue Note New York\, Ronnie Scott’s\, Blue Note Tokyo\, Tokyo Jazz Festival\, Jazz à Vienne\, Jazz in Marciac\, Elbphilharmonie Hamburg\, Berlin Philharmonie\, and the Paris Jazz Festival. He has also released two solo albums\, Maiden Tower (2017) and Waiting (2018)\, and has performed solo concerts in cities such as London\, Paris\, Berlin\, Budapest\, Kraków\, Milan\, and Vienna. In 2018\, he was named an Honoured Artist of Azerbaijan. In December 2022\, he was included in All About Jazz’s list of 200 favourite living pianists. \nJEREMY STACEY\, a powerful and highly impressive drummer\, has an extraordinary CV. The regular drummer for American icon Sheryl Crow for over seven years\, he toured the world (twice!) with his friend Noel Gallagher’s High Flying Birds before becoming one of the featured drummers with the legendary band King Crimson. He has also worked with Tom Jones\, Steven Wilson\, Robbie Williams\, Mary Chapin Carpenter\, and many others. His jazz credentials include performances with Jason Rebello\, Claire Martin\, Mike Outram\, Ivo Neame\, Emma Rawicz\, Ant Law\, Laurence Cottle\, and Iain Ballamy. \nElchin Shirinov: keyboards\nJeremy Stacey: drums \nEntry is £17.50 (no booking fee) in advance through the below link\, or £20 on the door (cash or card). \nAll advance ticket buyers will receive an exclusive link to a video of the evening’s performance\, available for one month \nShare this event
URL:https://soundcellar.org/event/synergy-session-elchin-shirinov-jeremy-stacey/
LOCATION:SoundCellar at The Grasshopper\, 139 - 141 Bournemouth Rd\, Poole\, Dorset\, BH14 9HT\, United Kingdom
CATEGORIES:Live,Upcoming
ATTACH;FMTTYPE=image/jpeg:https://soundcellar.org/wp-content/uploads/Stacey-Shirinov-scaled.jpg
END:VEVENT
BEGIN:VEVENT
DTSTART;TZID=Europe/London:20250907T193100
DTEND;TZID=Europe/London:20250907T213000
DTSTAMP:20260424T170342
CREATED:20250718T071053Z
LAST-MODIFIED:20250718T071053Z
UID:4440-1757273460-1757280600@soundcellar.org
SUMMARY:LIVESTREAM - SYNERGY SESSION - ELCHIN SHIRINOV / JEREMY STACEY
DESCRIPTION:We are delighted to open our autumn season with a specially curated SYNERGY SESSION\, featuring the amazing ELCHIN SHIRINOV on keyboards and local drum legend JEREMY STACEY. \nClick here for tickets to attend the physical gig.\nLivestream Ticket link below \nELCHIN SHIRINOV is a jazz pianist\, composer\, and arranger from Azerbaijan. From 2018 to 2022\, he was a member of bassist Avishai Cohen’s trio\, performing internationally at venues and festivals including Blue Note New York\, Ronnie Scott’s\, Blue Note Tokyo\, Tokyo Jazz Festival\, Jazz à Vienne\, Jazz in Marciac\, Elbphilharmonie Hamburg\, Berlin Philharmonie\, and the Paris Jazz Festival. He has also released two solo albums\, Maiden Tower (2017) and Waiting (2018)\, and has performed solo concerts in cities such as London\, Paris\, Berlin\, Budapest\, Kraków\, Milan\, and Vienna. In 2018\, he was named an Honoured Artist of Azerbaijan. In December 2022\, he was included in All About Jazz’s list of 200 favourite living pianists. \nJEREMY STACEY\, a powerful and highly impressive drummer\, has an extraordinary CV. The regular drummer for American icon Sheryl Crow for over seven years\, he toured the world (twice!) with his friend Noel Gallagher’s High Flying Birds before becoming one of the featured drummers with the legendary band King Crimson. He has also worked with Tom Jones\, Steven Wilson\, Robbie Williams\, Mary Chapin Carpenter\, and many others. His jazz credentials include performances with Jason Rebello\, Claire Martin\, Mike Outram\, Ivo Neame\, Emma Rawicz\, Ant Law\, Laurence Cottle\, and Iain Ballamy. \nElchin Shirinov: keyboards\nJeremy Stacey: drums \nThe livestream will be broadcast on YouTube\, via a page available when you purchase a ticket through the link below. \nAll advance ticket buyers will receive an exclusive link to a video of the evening’s performance\, available for one month. \nShare this event
URL:https://soundcellar.org/event/livestream-synergy-session-elchin-shirinov-jeremy-stacey/
LOCATION:LIVESTREAM\, United Kingdom
CATEGORIES:Live,Streamed
END:VEVENT
BEGIN:VEVENT
DTSTART;TZID=Europe/London:20250912T193000
DTEND;TZID=Europe/London:20250912T213000
DTSTAMP:20260424T170342
CREATED:20250703T195931Z
LAST-MODIFIED:20250703T195931Z
UID:4394-1757705400-1757712600@soundcellar.org
SUMMARY:JO HARROP at The Mowlem
DESCRIPTION:Award-winning jazz singer JO HARROP makes her SoundCellar debut at the Mowlem. With a smoky\, intimate voice blending jazz\, blues\, and soul\, she’s earned praise from Iggy Pop and Jo Whiley\, and recently supported Gregory Porter on his UK tour. Jo will be accompanied by the exquisite pianist Matt Carter. She will be performing songs from across her four albums\, including songs playlisted on Jazz FM & Radio 2\, such as Everything’s Changing\, Beautiful Fools and The Path Of A Tear\, as well as loved jazz standards from her 2020 released album\, “Weathering The Storm” \nThis gig will take place in The Studio at The Mowlem Theatre\,\nShore Road\, Swanage\, BH19 1DD. \nTicket link below \nJo Harrop is a celebrated British jazz singer and songwriter whose music blends jazz\, blues\, soul\, and elements of folk\, Americana\, and Latin. With a voice described as warm\, smoky\, and velvet-toned\, Jo has been praised for her emotional depth and musical intimacy. Her breakthrough came when rock legend Iggy Pop\, impressed by a glowing Guardian review\, featured her on BBC Radio 6\, calling her “a very fine jazz singer.” Since then\, she has gained wide acclaim for her albums Weathering The Storm\, The Heart Wants (featuring Christian McBride)\, When Winter Turns To Spring (with Paul Edis)\, and The Path Of A Tear\, produced by Grammy-winner Larry Klein. Jo’s music has received multiple four and five-star reviews globally\, with When Winter Turns To Spring winning Album of the Year at the 2023 Parliamentary Jazz Awards. The Heart Wants also charted in the US and was featured on Watercolors XM. In 2025\, she was handpicked to support Gregory Porter on his 13-date UK tour\, including four nights at the Royal Albert Hall. \nJazz pianist Matt Carter began classical piano lessons at age seven and later took up the trumpet. A graduate of the Royal Academy of Music\, he has led acclaimed projects and performed with artists including Joss Stone\, Rosie Frater-Taylor\, and Wet Wet Wet. His octet’s debut album\, Read Between the Lines\, received a four-star review from Jazzwise. \nAdmission is £14 (+£1.09 booking fee) \n\n\nShare this event
URL:https://soundcellar.org/event/jo-harrop-at-the-mowlem/
LOCATION:The Mowlem Theatre\, Shore Road\, Swanage\, Dorset\, BH19 1DD\, United Kingdom
CATEGORIES:Live,Upcoming
ATTACH;FMTTYPE=image/jpeg:https://soundcellar.org/wp-content/uploads/Jo-Harrop-scaled.jpg
END:VEVENT
BEGIN:VEVENT
DTSTART;TZID=Europe/London:20250912T193100
DTEND;TZID=Europe/London:20250912T213000
DTSTAMP:20260424T170342
CREATED:20250808T195216Z
LAST-MODIFIED:20250808T195216Z
UID:4463-1757705460-1757712600@soundcellar.org
SUMMARY:LIVESTREAM - JO HARROP at The Mowlem
DESCRIPTION:Award-winning jazz singer JO HARROP makes her SoundCellar debut at the Mowlem. With a smoky\, intimate voice blending jazz\, blues\, and soul\, she’s earned praise from Iggy Pop and Jo Whiley\, and recently supported Gregory Porter on his UK tour. Jo will be accompanied by the exquisite pianist Matt Carter. She will be performing songs from across her four albums\, including songs playlisted on Jazz FM & Radio 2\, such as Everything’s Changing\, Beautiful Fools and The Path Of A Tear\, as well as loved jazz standards from her 2020 released album\, “Weathering The Storm” \nClick here for tickets to attend the physical gig.\nLivestream Ticket link below \nJo Harrop is a celebrated British jazz singer and songwriter whose music blends jazz\, blues\, soul\, and elements of folk\, Americana\, and Latin. With a voice described as warm\, smoky\, and velvet-toned\, Jo has been praised for her emotional depth and musical intimacy. Her breakthrough came when rock legend Iggy Pop\, impressed by a glowing Guardian review\, featured her on BBC Radio 6\, calling her “a very fine jazz singer.” Since then\, she has gained wide acclaim for her albums Weathering The Storm\, The Heart Wants (featuring Christian McBride)\, When Winter Turns To Spring (with Paul Edis)\, and The Path Of A Tear\, produced by Grammy-winner Larry Klein. Jo’s music has received multiple four and five-star reviews globally\, with When Winter Turns To Spring winning Album of the Year at the 2023 Parliamentary Jazz Awards. The Heart Wants also charted in the US and was featured on Watercolors XM. In 2025\, she was handpicked to support Gregory Porter on his 13-date UK tour\, including four nights at the Royal Albert Hall. \nJazz pianist Matt Carter began classical piano lessons at age seven and later took up the trumpet. A graduate of the Royal Academy of Music\, he has led acclaimed projects and performed with artists including Joss Stone\, Rosie Frater-Taylor\, and Wet Wet Wet. His octet’s debut album\, Read Between the Lines\, received a four-star review from Jazzwise. \nThe livestream will be broadcast on YouTube\, via a page available when you purchase a ticket through the link below. \nAll advance ticket buyers will receive an exclusive link to a video of the evening’s performance\, available for one month. \nShare this event
URL:https://soundcellar.org/event/livestream-jo-harrop-at-the-mowlem/
LOCATION:LIVESTREAM\, United Kingdom
CATEGORIES:Live,Streamed
END:VEVENT
BEGIN:VEVENT
DTSTART;TZID=Europe/London:20250918T193000
DTEND;TZID=Europe/London:20250918T213000
DTSTAMP:20260424T170342
CREATED:20250610T104736Z
LAST-MODIFIED:20250610T104907Z
UID:4316-1758223800-1758231000@soundcellar.org
SUMMARY:MARK LOCKHEART / JOHN PARRICELLI
DESCRIPTION:We are very excited to present two legends of the UK music scene\, when we welcome back Mark Lockheart and have John Parricelli making his SoundCellar debut alongside him. \n \nThis gig will take place at The Grasshopper\,\n139 – 141 Bournemouth Rd\, Poole BH14 9HT. \nPlease note: If parking in either of the car parks at The Grasshopper\, you must register your vehicle on one of the dedicated terminals at the bar or in the function room. \nTicket link below \n“…typically robust shredding from Parricelli and biting soprano from the leader.” UK Jazz News \nThis captivating new duo features ingenious Loose Tubes legends Mark and John in an intimate setting exploring evocative soundscapes and grooves. Playing their own original material\, as well as reinterpreting some of the modern jazz repertoire\, they promise a unique and characteristically fascinating evening of music. \nAs well as being long-time close friends\, this pair of UK greats have collaborated many times over the years\, starting off in the 1980s with Loose Tubes\, the wildly exuberant\, viscerally thrilling and eclectic big band that became the first jazz orchestra to play at the Proms at the Royal Albert Hall\, as well as appearing on Wogan\, The Tube and A Plus 4! \nSince the demise of the Tubers\, the somewhat telepathic John and Mark have collaborated many times including on John’s beautiful 2000 album Alba\, Mark’s 2019 release Days On Earth and more recently Mark’s 2024 recording Smiling\, which heavily features the multi-faceted guitar playing of John in a 13-strong band. \nBetween them they have played with a dizzying array of the world’s music scene including Kenny Wheeler\, Dave Holland\, Norma Winstone\, Lee Konitz\, Vince Mendoza\, Peter Erskine\, June Tabor\, Andy Sheppard\, Lars Danielsson\, Colin Towns\, Mark-Anthony Turnage\, M People\, Thomas Dolby and Radiohead. \nMark’s work as a member of experimental quintet Polar Bear helped to earn the band two Mercury Music Prize nominations as well as (for Held On The Tips Of Fingers) an inclusion in The Guardian’s list of 1000 Albums To Hear Before You Die. A unique stylist\, and memorable composer for larger ensembles as well as small groups\, he was chosen in 2010 as Jazz Musician of the Year in the Parliamentary Jazz Awards. Jazzwise said “From Loose Tubes to Polar Bear and beyond\, Lockheart’s capacity to be ahead of the jazz curve is undeniable.” \nThe first call for sessions across the board\, incredibly versatile John counts performances on numerous film scores among his work\, including Captain Corelli’s Mandolin\, which also found him teaching Nicholas Cage to play the mandolin convincingly on screen! A stingingly inventive soloist\, his playing also has a flowing\, delicate side\, as heard on the ACT album Trio last year with bassist Danielsson and trumpeter Verneri Pohjola\, Jazz Views declaring: “Parricelli’s guitar has a beautiful\, clear tone\, each note picked with deliberate precision.” \nHear them afresh in this new\, open and exciting musical context\, which will leave ample room for these two masters to strut their stuff. \nMark Lockheart: saxes & clarinets\nJohn Parricelli: guitars \nEntry is £17.50 (no booking fee) in advance through the below link\, or £20 on the door (cash or card). \nShare this event
URL:https://soundcellar.org/event/mark-lockheart-john-parricelli/
LOCATION:SoundCellar at The Grasshopper\, 139 - 141 Bournemouth Rd\, Poole\, Dorset\, BH14 9HT\, United Kingdom
CATEGORIES:Live,Upcoming
ATTACH;FMTTYPE=image/jpeg:https://soundcellar.org/wp-content/uploads/Mark-John-scaled.jpg
END:VEVENT
END:VCALENDAR