BEGIN:VCALENDAR
VERSION:2.0
PRODID:-//SoundCellar - ECPv6.15.20//NONSGML v1.0//EN
CALSCALE:GREGORIAN
METHOD:PUBLISH
X-WR-CALNAME:SoundCellar
X-ORIGINAL-URL:https://soundcellar.org
X-WR-CALDESC:Events for SoundCellar
REFRESH-INTERVAL;VALUE=DURATION:PT1H
X-Robots-Tag:noindex
X-PUBLISHED-TTL:PT1H
BEGIN:VTIMEZONE
TZID:Europe/London
BEGIN:DAYLIGHT
TZOFFSETFROM:+0000
TZOFFSETTO:+0100
TZNAME:BST
DTSTART:20240331T010000
END:DAYLIGHT
BEGIN:STANDARD
TZOFFSETFROM:+0100
TZOFFSETTO:+0000
TZNAME:GMT
DTSTART:20241027T010000
END:STANDARD
BEGIN:DAYLIGHT
TZOFFSETFROM:+0000
TZOFFSETTO:+0100
TZNAME:BST
DTSTART:20250330T010000
END:DAYLIGHT
BEGIN:STANDARD
TZOFFSETFROM:+0100
TZOFFSETTO:+0000
TZNAME:GMT
DTSTART:20251026T010000
END:STANDARD
BEGIN:DAYLIGHT
TZOFFSETFROM:+0000
TZOFFSETTO:+0100
TZNAME:BST
DTSTART:20260329T010000
END:DAYLIGHT
BEGIN:STANDARD
TZOFFSETFROM:+0100
TZOFFSETTO:+0000
TZNAME:GMT
DTSTART:20261025T010000
END:STANDARD
END:VTIMEZONE
BEGIN:VEVENT
DTSTART;TZID=Europe/London:20250402T193000
DTEND;TZID=Europe/London:20250402T213000
DTSTAMP:20260423T133036
CREATED:20250101T150932Z
LAST-MODIFIED:20250101T150932Z
UID:3959-1743622200-1743629400@soundcellar.org
SUMMARY:IVO NEAME TRIO
DESCRIPTION:Internationally renowned pianist\, composer\, and bandleader Ivo Neame returns to SoundCellar with his latest trio featuring Conor Chaplin on bass and Marc Michel on drums. \n \nThis gig will take place at The Grasshopper\,\n139 – 141 Bournemouth Rd\, Poole BH14 9HT. \nPlease note: If parking in either of the car parks at The Grasshopper\, you must register your vehicle on one of the dedicated terminals at the bar or in the function room. \nTicket link below \nIvo Neame is an internationally renowned pianist\, composer\, and bandleader who has established himself as one of the most innovative and dynamic figures in the contemporary jazz scene. He regularly collaborates with ensembles as diverse as the Frankfurt Radio Big Band and the London Sinfonietta. He is best known for his work with the award-winning bands Phronesis and the Marius Neset Quintet\, as well as collaborations with numerous other artists\, including Hermeto Pascoal\, Kenny Wheeler and Gilad Hekselman. Ivo’s music is characterised by a stunning mix of virtuosity\, sophistication\, and playfulness – his performances are known for their dynamic energy and emotional depth. His ninth album under his own name “Live at Turner Sims” was released on Whirlwind Recordings in September 2023. In 2023 he was also made ‘artist-in-residence’ with the Cologne Contemporary Jazz Orchestra. \nConor Chaplin studied at Trinity College of Music in Greenwich under the tutelage of Simon Purcell\, Steve Watts\, and others. Also formative in his education were the late great composer and educator Martin Read at Alton College in Hampshire\, and his time as part of Surrey County and National Youth Jazz Orchestras. He is currently working mainly with Norwegian saxophone virtuoso Marius Neset\, rising star Emma Rawicz\, Iiro Rantala\, Laura Jurd’s Mercury Prize-nominated group Dinosaur\, pianist Gwilym Simcock\, and guitarist Tom Ollendorff. He has had the pleasure of touring extensively throughout the UK\, North America\, Europe and Asia and has been fortunate to perform with such varied artists as Jacob Collier\, Harold Mabern\, George Garzone\, Jeff Ballard and Jeff Hamilton. \nMarc Michel is a French Drummer\, guitarist\, composer\, percussionist\, multi-instrumentalist and arranger. After he graduated in classical percussion\, chamber music\, music theory\, classical composition and jazz in conservatoires (Paris\, Lyon)\, he obtained his masters degree in jazz performance at the Royal Academy of Music of London. He performed and recorded with some of the greatest jazz artists of his time such as Kurt Rosenwinkel\, Ben Wendel\, Seamus Blake\, Chris\nCheek\, Mike Moreno\, Gilad Hekselman\, Doug Weiss\, Jesse Van Ruller and many more. He has performed at festivals such as Tokyo Jazz Festival\, London Jazz Festival and Love Supreme most recently. He also won the prestigious competitions of La Défense Jazz with EYM trio\, band and soloist prizes at the Paris jazz competition and played on many critically acclaimed albums. \n“Some of the most engaging jazz you’ll hear this year” LONDON JAZZ SCENE \n\n“Ivo Neame is one of the very best jazz pianists on the UK scene” BANDCAMP DAILY  \n“That Neame is one of the most interesting jazz pianists of his generation may be clear. The years of almost constantly being on the road with bands has given him a prominent role in the front line of British jazz” WRITTEN IN JAZZ\n \n\nIvo Neame: piano\nConor Chaplin: bass\nMarc Michel: drums \nEntry is £17.50 (no booking fee) in advance through the below link\, or £20 on the door (cash or card). \nAll advance ticket buyers will receive an exclusive link to a video of the evening’s performance\, available for one month. \nShare this event
URL:https://soundcellar.org/event/ivo-neame-trio/
LOCATION:SoundCellar at The Grasshopper\, 139 - 141 Bournemouth Rd\, Poole\, Dorset\, BH14 9HT\, United Kingdom
CATEGORIES:Live,Upcoming
ATTACH;FMTTYPE=image/jpeg:https://soundcellar.org/wp-content/uploads/Ivo-Neame-Low-res-scaled.jpg
END:VEVENT
BEGIN:VEVENT
DTSTART;TZID=Europe/London:20250402T193100
DTEND;TZID=Europe/London:20250402T213000
DTSTAMP:20260423T133036
CREATED:20250101T150939Z
LAST-MODIFIED:20250101T150939Z
UID:3968-1743622260-1743629400@soundcellar.org
SUMMARY:LIVESTREAM - IVO NEAME TRIO
DESCRIPTION:Internationally renowned pianist\, composer\, and bandleader Ivo Neame returns to SoundCellar with his latest trio featuring Conor Chaplin on bass and Marc Michel on drums. \nClick here for tickets to attend the physical gig.\nLivestream Ticket link below \nIvo Neame is an internationally renowned pianist\, composer\, and bandleader who has established himself as one of the most innovative and dynamic figures in the contemporary jazz scene. He regularly collaborates with ensembles as diverse as the Frankfurt Radio Big Band and the London Sinfonietta. He is best known for his work with the award-winning bands Phronesis and the Marius Neset Quintet\, as well as collaborations with numerous other artists\, including Hermeto Pascoal\, Kenny Wheeler and Gilad Hekselman. Ivo’s music is characterised by a stunning mix of virtuosity\, sophistication\, and playfulness – his performances are known for their dynamic energy and emotional depth. His ninth album under his own name “Live at Turner Sims” was released on Whirlwind Recordings in September 2023. In 2023 he was also made ‘artist-in-residence’ with the Cologne Contemporary Jazz Orchestra. \nConor Chaplin studied at Trinity College of Music in Greenwich under the tutelage of Simon Purcell\, Steve Watts\, and others. Also formative in his education were the late great composer and educator Martin Read at Alton College in Hampshire\, and his time as part of Surrey County and National Youth Jazz Orchestras. He is currently working mainly with Norwegian saxophone virtuoso Marius Neset\, rising star Emma Rawicz\, Iiro Rantala\, Laura Jurd’s Mercury Prize-nominated group Dinosaur\, pianist Gwilym Simcock\, and guitarist Tom Ollendorff. He has had the pleasure of touring extensively throughout the UK\, North America\, Europe and Asia and has been fortunate to perform with such varied artists as Jacob Collier\, Harold Mabern\, George Garzone\, Jeff Ballard and Jeff Hamilton. \nMarc Michel is a French Drummer\, guitarist\, composer\, percussionist\, multi-instrumentalist and arranger. After he graduated in classical percussion\, chamber music\, music theory\, classical composition and jazz in conservatoires (Paris\, Lyon)\, he obtained his masters degree in jazz performance at the Royal Academy of Music of London. He performed and recorded with some of the greatest jazz artists of his time such as Kurt Rosenwinkel\, Ben Wendel\, Seamus Blake\, Chris\nCheek\, Mike Moreno\, Gilad Hekselman\, Doug Weiss\, Jesse Van Ruller and many more. He has performed at festivals such as Tokyo Jazz Festival\, London Jazz Festival and Love Supreme most recently. He also won the prestigious competitions of La Défense Jazz with EYM trio\, band and soloist prizes at the Paris jazz competition and played on many critically acclaimed albums. \n“Some of the most engaging jazz you’ll hear this year” LONDON JAZZ SCENE \n\n“Ivo Neame is one of the very best jazz pianists on the UK scene” BANDCAMP DAILY  \n“That Neame is one of the most interesting jazz pianists of his generation may be clear. The years of almost constantly being on the road with bands has given him a prominent role in the front line of British jazz” WRITTEN IN JAZZ\n \n\nIvo Neame: piano\nConor Chaplin: bass\nMarc Michel: drums \nThe livestream will be broadcast on YouTube\, via a page available when you purchase a ticket through the link below. \nAll advance ticket buyers will receive an exclusive link to a video of the evening’s performance\, available for one month. \nShare this event
URL:https://soundcellar.org/event/livestream-ivo-neame-trio/
LOCATION:LIVESTREAM\, United Kingdom
CATEGORIES:Live,Streamed
END:VEVENT
BEGIN:VEVENT
DTSTART;TZID=Europe/London:20250412T193000
DTEND;TZID=Europe/London:20250412T213000
DTSTAMP:20260423T133036
CREATED:20250224T160914Z
LAST-MODIFIED:20250224T161030Z
UID:4038-1744486200-1744493400@soundcellar.org
SUMMARY:NICOLAS MEIER & ALEX HUTTON DUO at the Mowlem Theatre
DESCRIPTION:SoundCellar and the Swanage Jazz Festival join forces to present a series of concerts in The Studio at The Mowlem Theatre\, Swanage\, featuring an evening of world jazz with guitarist Nicolas Meier and pianist Alex Hutton. \nThis gig will take place in The Studio at The Mowlem Theatre\,\nShore Road\, Swanage\, BH19 1DD. \nTicket link below \nUK-based guitarist Nicolas Meier has carved out a reputation as one of the world’s most original and uniquely talented guitarists. Drawing from a love of Turkish\, Eastern & Middle Eastern music\, Flamenco\, Tango\, and more—all mixed with jazz—Meier’s versatility and musical fluency extend well beyond that\, even. (… so much so that his considerable talents drew the attention of rock guitar legend Jeff Beck\, who made Nicolas a mainstay in The Jeff Beck Group\, taking him on two world tours over the last several years.) Nicolas has released numerous albums under his own name and\, in addition to touring with Jeff Beck\, has worked with internationally renowned musicians such as Vinnie Colaiuta\, Tim Garland\, Gary Husband\, Dave O’Higgins\, and many others. In addition to this\, in 2022\, he toured Europe with his group\, supporting rock guitar icon Steve Vai. \nPianist Alex Hutton is one of the UK Jazz’s hidden treasures. A fine composer\, with an ear for folk and classical influences\, he is a gifted\, thoughtful improviser and a mainstay of the London Jazz scene who has worked with the leading figures from Jim Mullen and Pete King to Pete Wareham. Hutton’s own albums have been noted for a move away from conventional piano trio music\, with a search for fresh approaches to the song form and an emphasis on capturing a broad spectrum of textures. \nNicolas Meier: Guitars\nAlex Hutton: Piano \nAdmission is £14 (+£1.09 booking fee). \nShare this event
URL:https://soundcellar.org/event/nicolas-meier-alex-hutton-duo-at-the-mowlem-theatre/
LOCATION:The Mowlem Theatre\, Shore Road\, Swanage\, Dorset\, BH19 1DD\, United Kingdom
CATEGORIES:Live,Upcoming
ATTACH;FMTTYPE=image/jpeg:https://soundcellar.org/wp-content/uploads/Nicolas-and-Alex.jpg
END:VEVENT
BEGIN:VEVENT
DTSTART;TZID=Europe/London:20250418T193000
DTEND;TZID=Europe/London:20250418T213000
DTSTAMP:20260423T133036
CREATED:20250209T184930Z
LAST-MODIFIED:20250220T155419Z
UID:3994-1745004600-1745011800@soundcellar.org
SUMMARY:LITTLE BLACK BOOK
DESCRIPTION:We are delighted to present a new trio: Little Black Book\, featuring Robert Mitchell (keys)\, Zayn Mohammed (guitar) and Laurie Lowe (drums). Three firebrand virtuosos who wear their influences on their sleeves. Rock\, Fusion\, Classical\, Jazz\, Poetry\, Freeform and Cinematic Soundscapes – all generously mixed in the cauldron of synergy. \n \nThis gig will take place at The Grasshopper\,\n139 – 141 Bournemouth Rd\, Poole BH14 9HT. \nPlease note: If parking in either of the car parks at The Grasshopper\, you must register your vehicle on one of the dedicated terminals at the bar or in the function room. \nTicket link below \nRobert Mitchell is an award-winning pianist\, keyboard player\, composer\, songwriter\, festival curator\, poet\, and author. He has recorded fourteen albums of his own projects\, 3 poetry collections and participated in over 100 projects as a sideman and has performed in more than 40 countries. Apart from being a pianist\, composer and innovator\, he is a festival creator and curator as well as a highly respected educator. Robert also leads TRUE THINK\, Epiphany3 and the Flame. He is a professor at Guildhall School Of Music And Drama (Jazz Piano)\, Mentor/Task Force Member at Black Lives In Music\, YMM teacher\, Steinway Artist\, EDI Lead at Music HE and recently taught/returned to the Paris Conservatoire and Pole Sup. Robert has won awards – BBC Jazz Awards (Innovation\, as part of the F-ire Collective)\, Best Jazz Album (BBC DJ Gilles Peterson Worldwide Awards)\, a Paul Hamlyn composition award and has been nominated for many more including 2017 British Jazz Composer Award. \n“Robert Mitchell is one of Britain’s finest and most versatile pianist-composer-improvisors” The Wire Magazine \nZayn Mohammed is a London based award – winning guitarist\, multi -instrumentalist and producer. Mentored by the late great Ahmad Jamal & George Benson\, Zayn graduated from Berklee College of Music studying with jazz greats such as Wayne Shorter & John Patitucci. Influenced by Indian Raga\, Turkish sufi music\, and jazz-fusion\, Zayn blends the ancient and the modern. Zayn has cultivated a unique sound of his own in the jazz world\, reflected by virtuosic improvisation & deep sense of composition and harmony cultivated through world music traditions. He is also in Robert’s group True Think. Zayn was crowned SKY ARTS GUITAR STAR in 2016 and he continues to push his musical boundaries by making an unmistakeable mark in the music world. Zayn is known to treat the listener to unique phrasing & undiscovered melodic improvisation. Through his innovate\, tasteful incorporation of sounds from his cultures & journey into the music he loves & creates Zayn steps into indefinable territories. \n“He shows what guitar is all about! He’s truly a star.” – George Benson \nLaurie Lowe is one of the UK’s great young drummers. He has gone on to play with some of the top jazz musicians in the country such as Robert Mitchell’s Panacea\, Gilad Atzmon\, Nicolas Meier\, Jim Mullen\, Dave O’Higgins\, Andy Sheppard\, Mike Mondesir\, Zhenya Strigalev \, John Law\, Carl Orr and many more. Laurie has also toured with the Grammy Nominated American Hip Hop/R&B group ‘’The Foreign Exchange’’\, receiving widespread critical acclaim. \nRobert Mitchell: keyboards\nZayn Mohammed: guitar\nLaurie Lowe: drums \nEntry is £17.50 (no booking fee) in advance through the below link\, or £20 on the door (cash or card). \nAll advance ticket buyers will receive an exclusive link to a video of the evening’s performance\, available for one month \nPhoto by Steve Cropper \nShare this event
URL:https://soundcellar.org/event/little-black-book/
LOCATION:SoundCellar at The Grasshopper\, 139 - 141 Bournemouth Rd\, Poole\, Dorset\, BH14 9HT\, United Kingdom
CATEGORIES:Live,Upcoming
ATTACH;FMTTYPE=image/jpeg:https://soundcellar.org/wp-content/uploads/Little-Black-Book-new-scaled.jpg
END:VEVENT
BEGIN:VEVENT
DTSTART;TZID=Europe/London:20250418T193100
DTEND;TZID=Europe/London:20250418T213000
DTSTAMP:20260423T133036
CREATED:20250219T145839Z
LAST-MODIFIED:20250220T155515Z
UID:4008-1745004660-1745011800@soundcellar.org
SUMMARY:LIVESTREAM - LITTLE BLACK BOOK
DESCRIPTION:We are delighted to present a new trio: Little Black Book\, featuring Robert Mitchell (keys)\, Zayn Mohammed (guitar) and Laurie Lowe (drums). Three firebrand virtuosos who wear their influences on their sleeves. Rock\, Fusion\, Classical\, Jazz\, Poetry\, Freeform and Cinematic Soundscapes – all generously mixed in the cauldron of synergy. \nClick here for tickets to attend the physical gig.\nLivestream Ticket link below \n \nRobert Mitchell is an award-winning pianist\, keyboard player\, composer\, songwriter\, festival curator\, poet\, and author. He has recorded fourteen albums of his own projects\, 3 poetry collections and participated in over 100 projects as a sideman and has performed in more than 40 countries. Apart from being a pianist\, composer and innovator\, he is a festival creator and curator as well as a highly respected educator. Robert also leads TRUE THINK\, Epiphany3 and the Flame. He is a professor at Guildhall School Of Music And Drama (Jazz Piano)\, Mentor/Task Force Member at Black Lives In Music\, YMM teacher\, Steinway Artist\, EDI Lead at Music HE and recently taught/returned to the Paris Conservatoire and Pole Sup. Robert has won awards – BBC Jazz Awards (Innovation\, as part of the F-ire Collective)\, Best Jazz Album (BBC DJ Gilles Peterson Worldwide Awards)\, a Paul Hamlyn composition award and has been nominated for many more including 2017 British Jazz Composer Award. \n“Robert Mitchell is one of Britain’s finest and most versatile pianist-composer-improvisors” The Wire Magazine \nZayn Mohammed is a London based award – winning guitarist\, multi -instrumentalist and producer. Mentored by the late great Ahmad Jamal & George Benson\, Zayn graduated from Berklee College of Music studying with jazz greats such as Wayne Shorter & John Patitucci. Influenced by Indian Raga\, Turkish sufi music\, and jazz-fusion\, Zayn blends the ancient and the modern. Zayn has cultivated a unique sound of his own in the jazz world\, reflected by virtuosic improvisation & deep sense of composition and harmony cultivated through world music traditions. He is also in Robert’s group True Think. Zayn was crowned SKY ARTS GUITAR STAR in 2016 and he continues to push his musical boundaries by making an unmistakeable mark in the music world. Zayn is known to treat the listener to unique phrasing & undiscovered melodic improvisation. Through his innovate\, tasteful incorporation of sounds from his cultures & journey into the music he loves & creates Zayn steps into indefinable territories. \n“He shows what guitar is all about! He’s truly a star.” – George Benson \nLaurie Lowe is one of the UK’s great young drummers. He has gone on to play with some of the top jazz musicians in the country such as Robert Mitchell’s Panacea\, Gilad Atzmon\, Nicolas Meier\, Jim Mullen\, Dave O’Higgins\, Andy Sheppard\, Mike Mondesir\, Zhenya Strigalev \, John Law\, Carl Orr and many more. Laurie has also toured with the Grammy Nominated American Hip Hop/R&B group ‘’The Foreign Exchange’’\, receiving widespread critical acclaim. \nRobert Mitchell: keyboards\nZayn Mohammed: guitar\nLaurie Lowe: drums \nThe livestream will be broadcast on YouTube\, via a page available when you purchase a ticket through the link below. \nAll advance ticket buyers will receive an exclusive link to a video of the evening’s performance\, available for one month. \nPhoto by Steve Cropper \nShare this event
URL:https://soundcellar.org/event/livestream-little-black-book/
LOCATION:LIVESTREAM\, United Kingdom
CATEGORIES:Live,Streamed
END:VEVENT
END:VCALENDAR